BEGIN:VCALENDAR
VERSION:2.0
PRODID:-//Kinderbeauftragte Kreis Stormarn - ECPv6.15.20//NONSGML v1.0//EN
CALSCALE:GREGORIAN
METHOD:PUBLISH
X-ORIGINAL-URL:https://kinderbeauftragte-stormarn.de
X-WR-CALDESC:Veranstaltungen für Kinderbeauftragte Kreis Stormarn
REFRESH-INTERVAL;VALUE=DURATION:PT1H
X-Robots-Tag:noindex
X-PUBLISHED-TTL:PT1H
BEGIN:VTIMEZONE
TZID:Europe/Berlin
BEGIN:DAYLIGHT
TZOFFSETFROM:+0100
TZOFFSETTO:+0200
TZNAME:CEST
DTSTART:20230326T010000
END:DAYLIGHT
BEGIN:STANDARD
TZOFFSETFROM:+0200
TZOFFSETTO:+0100
TZNAME:CET
DTSTART:20231029T010000
END:STANDARD
BEGIN:DAYLIGHT
TZOFFSETFROM:+0100
TZOFFSETTO:+0200
TZNAME:CEST
DTSTART:20240331T010000
END:DAYLIGHT
BEGIN:STANDARD
TZOFFSETFROM:+0200
TZOFFSETTO:+0100
TZNAME:CET
DTSTART:20241027T010000
END:STANDARD
BEGIN:DAYLIGHT
TZOFFSETFROM:+0100
TZOFFSETTO:+0200
TZNAME:CEST
DTSTART:20250330T010000
END:DAYLIGHT
BEGIN:STANDARD
TZOFFSETFROM:+0200
TZOFFSETTO:+0100
TZNAME:CET
DTSTART:20251026T010000
END:STANDARD
END:VTIMEZONE
BEGIN:VEVENT
DTSTART;TZID=Europe/Berlin:20240920T100000
DTEND;TZID=Europe/Berlin:20240920T170000
DTSTAMP:20260425T203943
CREATED:20240914T165438Z
LAST-MODIFIED:20250916T210648Z
UID:941-1726826400-1726851600@kinderbeauftragte-stormarn.de
SUMMARY:Startschuss für den Kreativwettbewerb "Kinderrechte im Fokus"!
DESCRIPTION:Ich freue mich\, den Beginn eines neuen Projekts bekannt zu geben: „Kinderrechte im Fokus“ geht heute offiziell an den Start! Mit einer Einladung an alle Bildungseinrichtungen im Kreis Stormarn lade ich 159 Kindertageseinrichtungen\, 204 Kindertagespflegestellen und 67 allgemeinbildende Schulen ein\, ihre Kreativität und Leidenschaft für das wichtige Thema Kinderrechte zu zeigen. \nDieser Wettbewerb bietet eine Plattform\, auf der Kinder und Jugendliche ihre Gedanken und Visionen zu ihren Rechten durch vielfältige kreative Ausdrucksformen teilen können. Von Kunst und Musik bis hin zu digitalem Design und Theater erwarte ich mit Spannung die einzigartigen und innovativen Beiträge jeder Gruppe. \nWas steht auf dem Spiel? Die besten Projekte werden nicht nur öffentlich im Kinderrechtepark und online ausgestellt\, sondern erhalten auch Anerkennung in Form von Preisen\, die das Engagement und die Kreativität der Teilnehmer würdigen. \nBeteiligt euch\, werdet kreativ und helft mir\, ein helles Licht auf die Rechte unserer Kinder zu werfen. Dies ist eure Chance\, zu lernen\, zu lehren und zu inspirieren. Nutzt sie!
URL:https://kinderbeauftragte-stormarn.de/event/startschuss-fuer-den-kreativwettbewerb-kinderrechte-im-fokus/
LOCATION:Mommsenstraße 13\, Bad Oldesloe\, Mommsenstraße 13\, Bad Oldesloe\, Schleswig-Holstein\, 23843\, Germany
END:VEVENT
END:VCALENDAR